BEGIN:VCALENDAR
VERSION:2.0
PRODID:-//Ecclesiact 3.3.6b//EN
CALSCALE:GREGORIAN
METHOD:PUBLISH
X-WR-TIMEZONE:America/Toronto
BEGIN:VEVENT
UID:1796336981
TRANSP:OPAQUE
STATUS:CONFIRMED
SEQUENCE:0
CLASS:PUBLIC
DTSTART;VALUE=DATE:20100124
DTEND;VALUE=DATE:20100125
DTSTAMP:20110612T185655Z
SUMMARY:Children's Sunday School
DESCRIPTION:We're studying the book of Exodus! This week: Exodus 3-4  Key verse: Exodus 3:7  Prepare for next week by reading Exodus 7-10!  https://wpc.ecclesiact.com/childrens-sunday-school
END:VEVENT
END:VCALENDAR
