BEGIN:VCALENDAR
VERSION:2.0
PRODID:-//Ecclesiact 3.3.6b//EN
CALSCALE:GREGORIAN
METHOD:PUBLISH
X-WR-TIMEZONE:America/Toronto
BEGIN:VEVENT
UID:1804051397
TRANSP:OPAQUE
STATUS:CONFIRMED
SEQUENCE:0
CLASS:PUBLIC
DTSTART:20090405T150000Z
DTEND:20090405T163000Z
DTSTAMP:20110612T185655Z
SUMMARY:Easter Worship Service & Communion with Children's Program
DESCRIPTION:WORSHIP SERVICE SPEAKER:  Pastor Peters    CHILDREN'S PROGRAM: Sunday School Teacher - Magda Davey         Today's Lesson: &quot;Easter and Beyond: Jesus Trial&quot;         Bible Verse:  I am the Good Shepherd.  The Good Shepherd lays down His life for the sheep.  John 10:11         This week's Bible story is from John 18:28 - 19:16         Faith Point:  We rejoice because of Jesus' sacrifice.  https://wpc.ecclesiact.com/worship-service--communion-with-childrens-program
END:VEVENT
END:VCALENDAR
