BEGIN:VCALENDAR
VERSION:2.0
PRODID:-//Ecclesiact 3.3.6b//EN
CALSCALE:GREGORIAN
METHOD:PUBLISH
X-WR-TIMEZONE:America/Toronto
BEGIN:VEVENT
UID:1839644813
TRANSP:OPAQUE
STATUS:CONFIRMED
SEQUENCE:0
CLASS:PUBLIC
DTSTART;VALUE=DATE:20080127
DTEND;VALUE=DATE:20080128
DTSTAMP:20110612T185655Z
SUMMARY:2008 Spiritual Life Convention at The Peoples Church
DESCRIPTION:&quot;The Cross & Resurrection - Matters of First Importance&quot; Sun. Jan 27 at 6 pm & Mon. Jan 28 - Wed. Jan 30 at 7:30 pm  https://wpc.ecclesiact.com/event/1839644813
END:VEVENT
END:VCALENDAR
