BEGIN:VCALENDAR
VERSION:2.0
PRODID:-//Ecclesiact 3.3.6b//EN
CALSCALE:GREGORIAN
METHOD:PUBLISH
X-WR-TIMEZONE:America/Toronto
BEGIN:VEVENT
UID:1847062297
TRANSP:OPAQUE
STATUS:CONFIRMED
SEQUENCE:0
CLASS:PUBLIC
DTSTART:20090113T143000Z
DTEND:20090113T160000Z
DTSTAMP:20110612T185655Z
SUMMARY:Ladies' Coffee Hour
DESCRIPTION:  https://wpc.ecclesiact.com/ladies-coffee-hour
END:VEVENT
END:VCALENDAR
