BEGIN:VCALENDAR
VERSION:2.0
PRODID:-//Ecclesiact 3.3.6b//EN
CALSCALE:GREGORIAN
METHOD:PUBLISH
X-WR-TIMEZONE:America/Toronto
BEGIN:VEVENT
UID:1848612228
TRANSP:OPAQUE
STATUS:CONFIRMED
SEQUENCE:0
CLASS:PUBLIC
DTSTART;VALUE=DATE:20090326
DTEND;VALUE=DATE:20090327
DTSTAMP:20110612T185655Z
SUMMARY:Craft Corner Display Day!
DESCRIPTION:  https://wpc.ecclesiact.com/craft-corner-display-day
END:VEVENT
END:VCALENDAR
