BEGIN:VCALENDAR
VERSION:2.0
PRODID:-//Ecclesiact 3.3.6b//EN
CALSCALE:GREGORIAN
METHOD:PUBLISH
X-WR-TIMEZONE:America/Toronto
BEGIN:VEVENT
UID:186622882
TRANSP:OPAQUE
STATUS:CONFIRMED
SEQUENCE:0
CLASS:PUBLIC
DTSTART:20100404T150000Z
DTEND:20100404T163000Z
DTSTAMP:20110612T185655Z
SUMMARY:Easter Sunday Service
DESCRIPTION:Easter Sunday Service at 11:00am. All are welcome!  https://wpc.ecclesiact.com/easter-sunday-service
END:VEVENT
END:VCALENDAR
