BEGIN:VCALENDAR
VERSION:2.0
PRODID:-//Ecclesiact 3.3.6b//EN
CALSCALE:GREGORIAN
METHOD:PUBLISH
X-WR-TIMEZONE:America/Toronto
BEGIN:VEVENT
UID:1879699001
TRANSP:OPAQUE
STATUS:CONFIRMED
SEQUENCE:0
CLASS:PUBLIC
DTSTART;VALUE=DATE:20100221
DTEND;VALUE=DATE:20100222
DTSTAMP:20110612T185655Z
SUMMARY:Children's Sunday School
DESCRIPTION:We're studying the book of Exodus!  This week: Exodus 15:22 - 17:7  Key verse: Exodus 15:26  Prepare for next week by reading Exodus 19!  https://wpc.ecclesiact.com/childrens-sunday-school
END:VEVENT
END:VCALENDAR
