BEGIN:VCALENDAR
VERSION:2.0
PRODID:-//Ecclesiact 3.3.6b//EN
CALSCALE:GREGORIAN
METHOD:PUBLISH
X-WR-TIMEZONE:America/Toronto
BEGIN:VEVENT
UID:1884275076
TRANSP:OPAQUE
STATUS:CONFIRMED
SEQUENCE:0
CLASS:PUBLIC
DTSTART:20100130T130000Z
DTEND:20100130T143000Z
DTSTAMP:20110612T185655Z
SUMMARY:Men's Breakfast
DESCRIPTION:Men, please join us on the last Saturday of each month for The Westmount Ministries' Men's Breakfast. Let's share a meal, have some fun, and discuss what the Bible says should be our responsibilities and duties in our homes and for our families as men, husbands, fathers, sons and brothers.  This coming Saturday we'll begin by discussing why our children and teens don't want to come to church.    https://wpc.ecclesiact.com/mens-breakfast
END:VEVENT
END:VCALENDAR
