BEGIN:VCALENDAR
VERSION:2.0
PRODID:-//Ecclesiact 3.3.6b//EN
CALSCALE:GREGORIAN
METHOD:PUBLISH
X-WR-TIMEZONE:America/Toronto
BEGIN:VEVENT
UID:1886415247
TRANSP:OPAQUE
STATUS:CONFIRMED
SEQUENCE:0
CLASS:PUBLIC
DTSTART:20091021T160000Z
DTEND:20091021T200000Z
DTSTAMP:20110612T185655Z
SUMMARY:Seniors Fellowship Trip to Bowmanville Museums!
DESCRIPTION:Join us for lunch and a guided tour!  https://wpc.ecclesiact.com/seniors-fellowship-trip-to-bowmanville-museums
END:VEVENT
END:VCALENDAR
