BEGIN:VCALENDAR
VERSION:2.0
PRODID:-//Ecclesiact 3.3.6b//EN
CALSCALE:GREGORIAN
METHOD:PUBLISH
X-WR-TIMEZONE:America/Toronto
BEGIN:VEVENT
UID:1906285528
TRANSP:OPAQUE
STATUS:CONFIRMED
SEQUENCE:0
CLASS:PUBLIC
DTSTART:20071229T193000Z
DTEND:20071229T213000Z
DTSTAMP:20110612T185655Z
SUMMARY:Family Skate!
DESCRIPTION:Come out to Weston Arena for our annual Family Skate!  The open skate runs from 2:30 to 3:30 pm, and a hockey challenge from 3:30 to 4:30 pm.  $3 at the door.  https://wpc.ecclesiact.com/event/1906285528
END:VEVENT
END:VCALENDAR
