BEGIN:VCALENDAR
VERSION:2.0
PRODID:-//Ecclesiact 3.3.6b//EN
CALSCALE:GREGORIAN
METHOD:PUBLISH
X-WR-TIMEZONE:America/Toronto
BEGIN:VEVENT
UID:1906361058
TRANSP:OPAQUE
STATUS:CONFIRMED
SEQUENCE:0
CLASS:PUBLIC
DTSTART:20070729T143000Z
DTEND:20070729T160000Z
DTSTAMP:20110612T185655Z
SUMMARY:Guest Speaker
DESCRIPTION:Tom James is our speaker today.  https://wpc.ecclesiact.com/event/1906361058
END:VEVENT
END:VCALENDAR
