BEGIN:VCALENDAR
VERSION:2.0
PRODID:-//Ecclesiact 3.3.6b//EN
CALSCALE:GREGORIAN
METHOD:PUBLISH
X-WR-TIMEZONE:America/Toronto
BEGIN:VEVENT
UID:1911592269
TRANSP:OPAQUE
STATUS:CONFIRMED
SEQUENCE:0
CLASS:PUBLIC
DTSTART;VALUE=DATE:20090301
DTEND;VALUE=DATE:20090302
DTSTAMP:20110612T185655Z
SUMMARY:Worship Service with Communion and Children's Program
DESCRIPTION:WORSHIP SERVICE SPEAKER:  Pastor Peters    CHILDREN'S PROGRAM:  Sunday School Teacher - Joan Wanuch         Today's Lesson: &quot;Before Easter: Jesus and Zacchaeus&quot;         Bible Verse:  O Sing to the Lord a new song.  Psalm 98:1         This week's Bible story is from Luke 19:1-10         Faith Point:  Following Jesus makes me want to do what is right.  https://wpc.ecclesiact.com/sunday-service-with-childrens-program-and-communion
END:VEVENT
END:VCALENDAR
