BEGIN:VCALENDAR
VERSION:2.0
PRODID:-//Ecclesiact 3.3.6b//EN
CALSCALE:GREGORIAN
METHOD:PUBLISH
X-WR-TIMEZONE:America/Toronto
BEGIN:VEVENT
UID:1936843424
TRANSP:OPAQUE
STATUS:CONFIRMED
SEQUENCE:0
CLASS:PUBLIC
DTSTART:20080811T130000Z
DTEND:20080811T161500Z
DTSTAMP:20110612T185655Z
SUMMARY:Vacation Bible Camp!
DESCRIPTION:Sign up today for our Summer VBC program! August 11 to 15!  https://wpc.ecclesiact.com/event/1936843424
END:VEVENT
END:VCALENDAR
