BEGIN:VCALENDAR
VERSION:2.0
PRODID:-//Ecclesiact 3.3.6b//EN
CALSCALE:GREGORIAN
METHOD:PUBLISH
X-WR-TIMEZONE:America/Toronto
BEGIN:VEVENT
UID:1951311887
TRANSP:OPAQUE
STATUS:CONFIRMED
SEQUENCE:0
CLASS:PUBLIC
DTSTART:20090324T133000Z
DTEND:20090324T150000Z
DTSTAMP:20110612T185655Z
SUMMARY:Ladies' Coffee Hour
DESCRIPTION:  https://wpc.ecclesiact.com/ladies-coffee-hour
LOCATION:Meet in the basement lounge.
END:VEVENT
END:VCALENDAR
