BEGIN:VCALENDAR
VERSION:2.0
PRODID:-//Ecclesiact 3.3.6b//EN
CALSCALE:GREGORIAN
METHOD:PUBLISH
X-WR-TIMEZONE:America/Toronto
BEGIN:VEVENT
UID:1964305950
TRANSP:OPAQUE
STATUS:CONFIRMED
SEQUENCE:0
CLASS:PUBLIC
DTSTART:20070708T143000Z
DTEND:20070708T160000Z
DTSTAMP:20110612T185655Z
SUMMARY:Guest speaker
DESCRIPTION:Dave Collins will be with us.  https://wpc.ecclesiact.com/event/1964305950
END:VEVENT
END:VCALENDAR
