BEGIN:VCALENDAR
VERSION:2.0
PRODID:-//Ecclesiact 3.3.6b//EN
CALSCALE:GREGORIAN
METHOD:PUBLISH
X-WR-TIMEZONE:America/Toronto
BEGIN:VEVENT
UID:1978519197
TRANSP:OPAQUE
STATUS:CONFIRMED
SEQUENCE:0
CLASS:PUBLIC
DTSTART:20090322T223000Z
DTEND:20090323T003000Z
DTSTAMP:20110612T185655Z
SUMMARY:Sunday Evening Bible Fellowship
DESCRIPTION:God Reconciling All Things Through Jesus Christ.  Col 1:18-22  https://wpc.ecclesiact.com/sunday-evening-bible-fellowship
END:VEVENT
END:VCALENDAR
