BEGIN:VCALENDAR
VERSION:2.0
PRODID:-//Ecclesiact 3.3.6b//EN
CALSCALE:GREGORIAN
METHOD:PUBLISH
X-WR-TIMEZONE:America/Toronto
BEGIN:VEVENT
UID:1987641595
TRANSP:OPAQUE
STATUS:CONFIRMED
SEQUENCE:0
CLASS:PUBLIC
DTSTART;VALUE=DATE:20090212
DTEND;VALUE=DATE:20090213
DTSTAMP:20110612T185655Z
SUMMARY:Magda's Soup Kitchen
DESCRIPTION:To follow Craft Corner.    Please feel free to bring your own sandwiches and some dessert if you would like to share with the rest of the crowd.  Everyone is also invited to bring a memento of something that has happened earlier in the year that you would like to share with the group.  https://wpc.ecclesiact.com/magdas-soup-kitchen
END:VEVENT
END:VCALENDAR
