BEGIN:VCALENDAR
VERSION:2.0
PRODID:-//Ecclesiact 3.3.6b//EN
CALSCALE:GREGORIAN
METHOD:PUBLISH
X-WR-TIMEZONE:America/Toronto
BEGIN:VEVENT
UID:2047411822
TRANSP:OPAQUE
STATUS:CONFIRMED
SEQUENCE:0
CLASS:PUBLIC
DTSTART;VALUE=DATE:20080323
DTEND;VALUE=DATE:20080324
DTSTAMP:20110612T185655Z
SUMMARY:Easter Sunday Service
DESCRIPTION:Join us for our Easter Service Celebration!  https://wpc.ecclesiact.com/event/2047411822
END:VEVENT
END:VCALENDAR
