BEGIN:VCALENDAR
VERSION:2.0
PRODID:-//Ecclesiact 3.3.6b//EN
CALSCALE:GREGORIAN
METHOD:PUBLISH
X-WR-TIMEZONE:America/Toronto
BEGIN:VEVENT
UID:2078188182
TRANSP:OPAQUE
STATUS:CONFIRMED
SEQUENCE:0
CLASS:PUBLIC
DTSTART;VALUE=DATE:20070909
DTEND;VALUE=DATE:20070910
DTSTAMP:20110612T185655Z
SUMMARY:Join Us As We Return to Our Regular 11:00 A.M. Service
DESCRIPTION:Pastor Peters will be speaking from the book of Numbers.  https://wpc.ecclesiact.com/event/2078188182
END:VEVENT
END:VCALENDAR
