BEGIN:VCALENDAR
VERSION:2.0
PRODID:-//Ecclesiact 3.3.6b//EN
CALSCALE:GREGORIAN
METHOD:PUBLISH
X-WR-TIMEZONE:America/Toronto
BEGIN:VEVENT
UID:2080019003
TRANSP:OPAQUE
STATUS:CONFIRMED
SEQUENCE:0
CLASS:PUBLIC
DTSTART:20090520T233000Z
DTEND:20090521T013000Z
DTSTAMP:20110612T185655Z
SUMMARY:Missions Committee Meeting
DESCRIPTION:At the home of Dorothy Baxter.  https://wpc.ecclesiact.com/missions-committee-meeting
END:VEVENT
END:VCALENDAR
