BEGIN:VCALENDAR
VERSION:2.0
PRODID:-//Ecclesiact 3.3.6b//EN
CALSCALE:GREGORIAN
METHOD:PUBLISH
X-WR-TIMEZONE:America/Toronto
BEGIN:VEVENT
UID:2083925657
TRANSP:OPAQUE
STATUS:CONFIRMED
SEQUENCE:0
CLASS:PUBLIC
DTSTART;VALUE=DATE:20100221
DTEND;VALUE=DATE:20100222
DTSTAMP:20110612T185655Z
SUMMARY:Newcomer's Luncheon
DESCRIPTION:Are you a relative newcomer to Westmount Park Church?  If you have been attending for a while, but would like to know more about Westmount, then you are invited to attend our Newcomer's Luncheon following the church service on Sunday, February 21st.  A number of elders will be there to share about our various ministries and opportunities.  If you have any questions about the church, this is the place to be!  https://wpc.ecclesiact.com/newcomers-luncheon
END:VEVENT
END:VCALENDAR
