BEGIN:VCALENDAR
VERSION:2.0
PRODID:-//Ecclesiact 3.3.6b//EN
CALSCALE:GREGORIAN
METHOD:PUBLISH
X-WR-TIMEZONE:America/Toronto
BEGIN:VEVENT
UID:218869427
TRANSP:OPAQUE
STATUS:CONFIRMED
SEQUENCE:0
CLASS:PUBLIC
DTSTART;VALUE=DATE:20070902
DTEND;VALUE=DATE:20070903
DTSTAMP:20110612T185655Z
SUMMARY:Special Westmount Ministries Worship Celebration
DESCRIPTION:Join us for our special annual Labour Day weekend combined worship celebration with our entire Westmount Ministries Family!  https://wpc.ecclesiact.com/event/218869427
END:VEVENT
END:VCALENDAR
