BEGIN:VCALENDAR
VERSION:2.0
PRODID:-//Ecclesiact 3.3.6b//EN
CALSCALE:GREGORIAN
METHOD:PUBLISH
X-WR-TIMEZONE:America/Toronto
BEGIN:VEVENT
UID:242045748
TRANSP:OPAQUE
STATUS:CONFIRMED
SEQUENCE:0
CLASS:PUBLIC
DTSTART:20100128T003000Z
DTEND:20100128T023000Z
DTSTAMP:20110612T185655Z
SUMMARY:Hermeneutics & Homiletics Course
DESCRIPTION:  https://wpc.ecclesiact.com/hermeneutics--homiletics-course
END:VEVENT
END:VCALENDAR
