BEGIN:VCALENDAR
VERSION:2.0
PRODID:-//Ecclesiact 3.3.6b//EN
CALSCALE:GREGORIAN
METHOD:PUBLISH
X-WR-TIMEZONE:America/Toronto
BEGIN:VEVENT
UID:270853746
TRANSP:OPAQUE
STATUS:CONFIRMED
SEQUENCE:0
CLASS:PUBLIC
DTSTART;VALUE=DATE:20090222
DTEND;VALUE=DATE:20090223
DTSTAMP:20110612T185655Z
SUMMARY:Worship Service with Children's Program
DESCRIPTION:WORSHIP SERVICE SPEAKER:  Pastor Peters      CHILDREN'S PROGRAM:  Sunday School Teacher - Anne Marchinetz       Today's Lesson:  &quot;Jesus Begins His Ministry - Two by Two&quot;       Bible Verse:  The Lord...sent them out two by two to every town and village.     Luke 10:1       This week's Bible story is from Luke 10:1-12.       Faith Point:  I can tell others about God's love!  https://wpc.ecclesiact.com/sunday-service-with-childrens-program
END:VEVENT
END:VCALENDAR
