BEGIN:VCALENDAR
VERSION:2.0
PRODID:-//Ecclesiact 3.3.6b//EN
CALSCALE:GREGORIAN
METHOD:PUBLISH
X-WR-TIMEZONE:America/Toronto
BEGIN:VEVENT
UID:272458627
TRANSP:OPAQUE
STATUS:CONFIRMED
SEQUENCE:0
CLASS:PUBLIC
DTSTART:20071106T003000Z
DTEND:20071106T023000Z
DTSTAMP:20110612T185655Z
SUMMARY:Annual General Meeting
DESCRIPTION:  https://wpc.ecclesiact.com/event/272458627
END:VEVENT
END:VCALENDAR
