BEGIN:VCALENDAR
VERSION:2.0
PRODID:-//Ecclesiact 3.3.6b//EN
CALSCALE:GREGORIAN
METHOD:PUBLISH
X-WR-TIMEZONE:America/Toronto
BEGIN:VEVENT
UID:298162397
TRANSP:OPAQUE
STATUS:CONFIRMED
SEQUENCE:0
CLASS:PUBLIC
DTSTART:20090503T223000Z
DTEND:20090504T000000Z
DTSTAMP:20110612T185655Z
SUMMARY:Bible Fellowship
DESCRIPTION:  https://wpc.ecclesiact.com/bible-fellowship
END:VEVENT
END:VCALENDAR
