BEGIN:VCALENDAR
VERSION:2.0
PRODID:-//Ecclesiact 3.3.6b//EN
CALSCALE:GREGORIAN
METHOD:PUBLISH
X-WR-TIMEZONE:America/Toronto
BEGIN:VEVENT
UID:314093079
TRANSP:OPAQUE
STATUS:CONFIRMED
SEQUENCE:0
CLASS:PUBLIC
DTSTART;VALUE=DATE:20090117
DTEND;VALUE=DATE:20090118
DTSTAMP:20110612T185655Z
SUMMARY:Elijah's Prayer Room
DESCRIPTION:Meeting together to pray for our congregation and their families.  https://wpc.ecclesiact.com/elijahs-prayer-room
END:VEVENT
END:VCALENDAR
