BEGIN:VCALENDAR
VERSION:2.0
PRODID:-//Ecclesiact 3.3.6b//EN
CALSCALE:GREGORIAN
METHOD:PUBLISH
X-WR-TIMEZONE:America/Toronto
BEGIN:VEVENT
UID:365008792
TRANSP:OPAQUE
STATUS:CONFIRMED
SEQUENCE:0
CLASS:PUBLIC
DTSTART:20101225T000000Z
DTEND:20101225T020000Z
DTSTAMP:20110612T185655Z
SUMMARY:Christmas Eve Service by Candlelight
DESCRIPTION:Join us as we celebrate with carols...  https://wpc.ecclesiact.com/christmas-eve-service-by-candlelight
END:VEVENT
END:VCALENDAR
