BEGIN:VCALENDAR
VERSION:2.0
PRODID:-//Ecclesiact 3.3.6b//EN
CALSCALE:GREGORIAN
METHOD:PUBLISH
X-WR-TIMEZONE:America/Toronto
BEGIN:VEVENT
UID:382966493
TRANSP:OPAQUE
STATUS:CONFIRMED
SEQUENCE:0
CLASS:PUBLIC
DTSTART:20070918T233000Z
DTEND:20070919T010000Z
DTSTAMP:20110612T185655Z
SUMMARY:ESL Cafe
DESCRIPTION:If English is not your native language, come to our next 10-week interactive "Conversational English" program! Attend all 10 weeks or come when you're able. FREE!  https://wpc.ecclesiact.com/event/382966493
END:VEVENT
END:VCALENDAR
