BEGIN:VCALENDAR
VERSION:2.0
PRODID:-//Ecclesiact 3.3.6b//EN
CALSCALE:GREGORIAN
METHOD:PUBLISH
X-WR-TIMEZONE:America/Toronto
BEGIN:VEVENT
UID:386511379
TRANSP:OPAQUE
STATUS:CONFIRMED
SEQUENCE:0
CLASS:PUBLIC
DTSTART:20090212T143000Z
DTEND:20090212T163000Z
DTSTAMP:20110612T185655Z
SUMMARY:Craft Corner Classes
DESCRIPTION:  https://wpc.ecclesiact.com/craft-corner-classes
END:VEVENT
END:VCALENDAR
