BEGIN:VCALENDAR
VERSION:2.0
PRODID:-//Ecclesiact 3.3.6b//EN
CALSCALE:GREGORIAN
METHOD:PUBLISH
X-WR-TIMEZONE:America/Toronto
BEGIN:VEVENT
UID:389808398
TRANSP:OPAQUE
STATUS:CONFIRMED
SEQUENCE:0
CLASS:PUBLIC
DTSTART:20091112T143000Z
DTEND:20091112T163000Z
DTSTAMP:20110612T185655Z
SUMMARY:Craft Corner
DESCRIPTION:  https://wpc.ecclesiact.com/craft-corner
END:VEVENT
END:VCALENDAR
