BEGIN:VCALENDAR
VERSION:2.0
PRODID:-//Ecclesiact 3.3.6b//EN
CALSCALE:GREGORIAN
METHOD:PUBLISH
X-WR-TIMEZONE:America/Toronto
BEGIN:VEVENT
UID:416432737
TRANSP:OPAQUE
STATUS:CONFIRMED
SEQUENCE:0
CLASS:PUBLIC
DTSTART:20090425T220000Z
DTEND:20090426T010000Z
DTSTAMP:20110612T185655Z
SUMMARY:WPC Missions Conference Program & Potluck
DESCRIPTION:  https://wpc.ecclesiact.com/wpc-missions-conference-program--potluck
END:VEVENT
END:VCALENDAR
