BEGIN:VCALENDAR
VERSION:2.0
PRODID:-//Ecclesiact 3.3.6b//EN
CALSCALE:GREGORIAN
METHOD:PUBLISH
X-WR-TIMEZONE:America/Toronto
BEGIN:VEVENT
UID:42203010
TRANSP:OPAQUE
STATUS:CONFIRMED
SEQUENCE:0
CLASS:PUBLIC
DTSTART:20090326T230000Z
DTEND:20090327T010000Z
DTSTAMP:20110612T185655Z
SUMMARY:Endeavours Youth Program
DESCRIPTION:TONIGHT:  Talent Show!  https://wpc.ecclesiact.com/endeavours-youth-program
END:VEVENT
END:VCALENDAR
