BEGIN:VCALENDAR
VERSION:2.0
PRODID:-//Ecclesiact 3.3.6b//EN
CALSCALE:GREGORIAN
METHOD:PUBLISH
X-WR-TIMEZONE:America/Toronto
BEGIN:VEVENT
UID:455572439
TRANSP:OPAQUE
STATUS:CONFIRMED
SEQUENCE:0
CLASS:PUBLIC
DTSTART;VALUE=DATE:20090308
DTEND;VALUE=DATE:20090309
DTSTAMP:20110612T185655Z
SUMMARY:Worship Service with Children's Program
DESCRIPTION:WORSHIP SERVICE SPEAKER:  Pastor Peters    CHILDREN'S PROGRAM:  Sunday School Teacher - Joan Wanuch         Today's Lesson:  &quot;The Last Supper&quot;         Bible Verse:  Hosanna! Blessed is the one who comes in the name of the Lord! Mark 11:9         This week's Bible story is from Mark 11:1-11         Faith Point: We celebrate Jesus, the Son of God.  https://wpc.ecclesiact.com/sunday-service-with-childrens-program
END:VEVENT
END:VCALENDAR
