BEGIN:VCALENDAR
VERSION:2.0
PRODID:-//Ecclesiact 3.3.6b//EN
CALSCALE:GREGORIAN
METHOD:PUBLISH
X-WR-TIMEZONE:America/Toronto
BEGIN:VEVENT
UID:46337472
TRANSP:OPAQUE
STATUS:CONFIRMED
SEQUENCE:0
CLASS:PUBLIC
DTSTART:20090503T150000Z
DTEND:20090503T163000Z
DTSTAMP:20110612T185655Z
SUMMARY:Worship Service & Communion
DESCRIPTION:  https://wpc.ecclesiact.com/worship-service--communion
END:VEVENT
END:VCALENDAR
