BEGIN:VCALENDAR
VERSION:2.0
PRODID:-//Ecclesiact 3.3.6b//EN
CALSCALE:GREGORIAN
METHOD:PUBLISH
X-WR-TIMEZONE:America/Toronto
BEGIN:VEVENT
UID:48089856
TRANSP:OPAQUE
STATUS:CONFIRMED
SEQUENCE:0
CLASS:PUBLIC
DTSTART:20100121T170000Z
DTEND:20100121T200000Z
DTSTAMP:20110612T185655Z
SUMMARY:Seniors' Fellowship Group Event
DESCRIPTION:We will meet at Tucker's Restaurant for lunch at noon, and return to the church to hear a talk from a representative of Wheel Trans.  https://wpc.ecclesiact.com/seniors-fellowship-group-event
END:VEVENT
END:VCALENDAR
