BEGIN:VCALENDAR
VERSION:2.0
PRODID:-//Ecclesiact 3.3.6b//EN
CALSCALE:GREGORIAN
METHOD:PUBLISH
X-WR-TIMEZONE:America/Toronto
BEGIN:VEVENT
UID:501185195
TRANSP:OPAQUE
STATUS:CONFIRMED
SEQUENCE:0
CLASS:PUBLIC
DTSTART:20080117T143000Z
DTEND:20080117T160000Z
DTSTAMP:20110612T185655Z
SUMMARY:Attention All Crafters!
DESCRIPTION:Come to the church for Craft Corner registration!  Classes begin January 24th.   https://wpc.ecclesiact.com/event/501185195
END:VEVENT
END:VCALENDAR
