BEGIN:VCALENDAR
VERSION:2.0
PRODID:-//Ecclesiact 3.3.6b//EN
CALSCALE:GREGORIAN
METHOD:PUBLISH
X-WR-TIMEZONE:America/Toronto
BEGIN:VEVENT
UID:511249099
TRANSP:OPAQUE
STATUS:CONFIRMED
SEQUENCE:0
CLASS:PUBLIC
DTSTART:20070822T230000Z
DTEND:20070823T010000Z
DTSTAMP:20110612T185655Z
SUMMARY:Missionary Evening with Saloma Smith
DESCRIPTION:Sign up to attend an evening with Saloma as she talks about God's work in Pakistan!  https://wpc.ecclesiact.com/event/511249099
END:VEVENT
END:VCALENDAR
