BEGIN:VCALENDAR
VERSION:2.0
PRODID:-//Ecclesiact 3.3.6b//EN
CALSCALE:GREGORIAN
METHOD:PUBLISH
X-WR-TIMEZONE:America/Toronto
BEGIN:VEVENT
UID:520666841
TRANSP:OPAQUE
STATUS:CONFIRMED
SEQUENCE:0
CLASS:PUBLIC
DTSTART;VALUE=DATE:20100314
DTEND;VALUE=DATE:20100315
DTSTAMP:20110612T185655Z
SUMMARY:Exploring the Topic of Tongues in the Bible and Early Church History
DESCRIPTION:We have been studying the book of Acts for the past few months. It is impossible to miss the phenomena of tongues speaking in this book.  Questions abound and controversy swirls on around this question.Were these real languages? Is this a prayer language? Should every Christian have this gift? Is it a sign that necessarily follows the baptism of the Holy Spirit? This Sunday we will look at all of thoise questions and more.   https://wpc.ecclesiact.com/exploring-the-topic-of-tongues-in-the-bible-and-history
END:VEVENT
END:VCALENDAR
