BEGIN:VCALENDAR
VERSION:2.0
PRODID:-//Ecclesiact 3.3.6b//EN
CALSCALE:GREGORIAN
METHOD:PUBLISH
X-WR-TIMEZONE:America/Toronto
BEGIN:VEVENT
UID:521290143
TRANSP:OPAQUE
STATUS:CONFIRMED
SEQUENCE:0
CLASS:PUBLIC
DTSTART:20100214T151500Z
DTEND:20100214T154500Z
DTSTAMP:20110612T185655Z
SUMMARY:In-Touch Prayer Time
DESCRIPTION:  https://wpc.ecclesiact.com/in-touch-prayer-time
END:VEVENT
END:VCALENDAR
