BEGIN:VCALENDAR
VERSION:2.0
PRODID:-//Ecclesiact 3.3.6b//EN
CALSCALE:GREGORIAN
METHOD:PUBLISH
X-WR-TIMEZONE:America/Toronto
BEGIN:VEVENT
UID:545808433
TRANSP:OPAQUE
STATUS:CONFIRMED
SEQUENCE:0
CLASS:PUBLIC
DTSTART:20090222T233000Z
DTEND:20090223T013000Z
DTSTAMP:20110612T185655Z
SUMMARY:Sunday Evening Bible Fellowship
DESCRIPTION:Study and discussion details coming soon.  https://wpc.ecclesiact.com/bible-study-group
END:VEVENT
END:VCALENDAR
