BEGIN:VCALENDAR
VERSION:2.0
PRODID:-//Ecclesiact 3.3.6b//EN
CALSCALE:GREGORIAN
METHOD:PUBLISH
X-WR-TIMEZONE:America/Toronto
BEGIN:VEVENT
UID:558927881
TRANSP:OPAQUE
STATUS:CONFIRMED
SEQUENCE:0
CLASS:PUBLIC
DTSTART:20100307T160000Z
DTEND:20100307T170000Z
DTSTAMP:20110612T185655Z
SUMMARY:Sunday Service
DESCRIPTION:  Sunday Worship Service     Communion Sunday  Pastor Werner Peters will be addressing the issue of covetousness. How does this particular trait erode our faith?  https://wpc.ecclesiact.com/sunday-service
LOCATION:wpc
END:VEVENT
END:VCALENDAR
