BEGIN:VCALENDAR
VERSION:2.0
PRODID:-//Ecclesiact 3.3.6b//EN
CALSCALE:GREGORIAN
METHOD:PUBLISH
X-WR-TIMEZONE:America/Toronto
BEGIN:VEVENT
UID:600183734
TRANSP:OPAQUE
STATUS:CONFIRMED
SEQUENCE:0
CLASS:PUBLIC
DTSTART:20071231T233000Z
DTEND:20080101T010000Z
DTSTAMP:20110612T185655Z
SUMMARY:New Year's Eve Special Service
DESCRIPTION:Join us on New Year's Eve for a special Communion service!  https://wpc.ecclesiact.com/event/600183734
END:VEVENT
END:VCALENDAR
