BEGIN:VCALENDAR
VERSION:2.0
PRODID:-//Ecclesiact 3.3.6b//EN
CALSCALE:GREGORIAN
METHOD:PUBLISH
X-WR-TIMEZONE:America/Toronto
BEGIN:VEVENT
UID:664240070
TRANSP:OPAQUE
STATUS:CONFIRMED
SEQUENCE:0
CLASS:PUBLIC
DTSTART:20090426T150000Z
DTEND:20090426T163000Z
DTSTAMP:20110612T185655Z
SUMMARY:Worship Service with Children's Program
DESCRIPTION:WORSHIP SERVICE SPEAKER:  Pastor Peters    CHILDREN'S PROGRAM:  Sunday School Teacher - Magda Davey         Today's Lesson:  &quot;Beyond Easter - The Great Commission&quot;         Bible Verse:  Go therefore and make disciples of all nations.  Matthew 28:19         This week's Bible story is from Matthew 28:16-20.         Faith Point:  Jesus will always be with us.  https://wpc.ecclesiact.com/worship-service-with-childrens-program
END:VEVENT
END:VCALENDAR
