BEGIN:VCALENDAR
VERSION:2.0
PRODID:-//Ecclesiact 3.3.6b//EN
CALSCALE:GREGORIAN
METHOD:PUBLISH
X-WR-TIMEZONE:America/Toronto
BEGIN:VEVENT
UID:712024875
TRANSP:OPAQUE
STATUS:CONFIRMED
SEQUENCE:0
CLASS:PUBLIC
DTSTART;VALUE=DATE:20070726
DTEND;VALUE=DATE:20070727
DTSTAMP:20110612T185655Z
SUMMARY:Attention Seniors!!
DESCRIPTION:Once again, you are invited to join us for a visit to Charlie Reid's summer cottage!  https://wpc.ecclesiact.com/event/712024875
END:VEVENT
END:VCALENDAR
