BEGIN:VCALENDAR
VERSION:2.0
PRODID:-//Ecclesiact 3.3.6b//EN
CALSCALE:GREGORIAN
METHOD:PUBLISH
X-WR-TIMEZONE:America/Toronto
BEGIN:VEVENT
UID:718675923
TRANSP:OPAQUE
STATUS:CONFIRMED
SEQUENCE:0
CLASS:PUBLIC
DTSTART;VALUE=DATE:20080918
DTEND;VALUE=DATE:20080919
DTSTAMP:20110612T185655Z
SUMMARY:Craft Corner Fall Registration
DESCRIPTION:Get ready crafters!  Register at the church from 9 to 11 am.  Classes begin September 25!  https://wpc.ecclesiact.com/craft-corner-fall-2008
END:VEVENT
END:VCALENDAR
