BEGIN:VCALENDAR
VERSION:2.0
PRODID:-//Ecclesiact 3.3.6b//EN
CALSCALE:GREGORIAN
METHOD:PUBLISH
X-WR-TIMEZONE:America/Toronto
BEGIN:VEVENT
UID:723754633
TRANSP:OPAQUE
STATUS:CONFIRMED
SEQUENCE:0
CLASS:PUBLIC
DTSTART:20090206T000000Z
DTEND:20090206T020000Z
DTSTAMP:20110612T185655Z
SUMMARY:Endeavours Youth Program
DESCRIPTION:TONIGHT: Sports Night!  https://wpc.ecclesiact.com/endeavours-youth-program
END:VEVENT
END:VCALENDAR
