BEGIN:VCALENDAR
VERSION:2.0
PRODID:-//Ecclesiact 3.3.6b//EN
CALSCALE:GREGORIAN
METHOD:PUBLISH
X-WR-TIMEZONE:America/Toronto
BEGIN:VEVENT
UID:763294860
TRANSP:OPAQUE
STATUS:CONFIRMED
SEQUENCE:0
CLASS:PUBLIC
DTSTART;VALUE=DATE:20090201
DTEND;VALUE=DATE:20090202
DTSTAMP:20110612T185655Z
SUMMARY:Worship Service, Communion and Children's Program
DESCRIPTION:WORSHIP SERVICE SPEAKER:  Pastor Peters speaking from Romans 14    CHILDREN'S PROGRAM:  Sunday School Teacher - Anne Marchinetz       Today's Lesson:  &quot;Jesus Begins His Ministry -  Jesus in the Synagogue&quot;        Bible Verse:  God has anointed me to bring good news to the poor.  Luke 4:18       This week's Bible story is from Luke 4:14-30.       Faith Point:  Jesus came to teach us about God's love.  https://wpc.ecclesiact.com/sunday-service
END:VEVENT
END:VCALENDAR
