BEGIN:VCALENDAR
VERSION:2.0
PRODID:-//Ecclesiact 3.3.6b//EN
CALSCALE:GREGORIAN
METHOD:PUBLISH
X-WR-TIMEZONE:America/Toronto
BEGIN:VEVENT
UID:785146545
TRANSP:OPAQUE
STATUS:CONFIRMED
SEQUENCE:0
CLASS:PUBLIC
DTSTART:20100207T230000Z
DTEND:20100208T033000Z
DTSTAMP:20110612T185655Z
SUMMARY:Super Bowl Party 2010!
DESCRIPTION:  https://wpc.ecclesiact.com/super-bowl-party-2010
END:VEVENT
END:VCALENDAR
