BEGIN:VCALENDAR
VERSION:2.0
PRODID:-//Ecclesiact 3.3.6b//EN
CALSCALE:GREGORIAN
METHOD:PUBLISH
X-WR-TIMEZONE:America/Toronto
BEGIN:VEVENT
UID:801072601
TRANSP:OPAQUE
STATUS:CONFIRMED
SEQUENCE:0
CLASS:PUBLIC
DTSTART;VALUE=DATE:20110301
DTEND;VALUE=DATE:20110302
DTSTAMP:20110612T185655Z
SUMMARY:Seniors' Meeting 
DESCRIPTION:Tuesday, March 1, the Seniors will be meeting again Lord willing. The plan is to meet at Westmount Park Church by 11:30am and then make our way to &quot;The Q&quot; to enjoy lunch together. Afterwards we will return to the church to enjoy displays and explanations of everyone's different hobbies/collections. Mark it in your calendars! As always, this is an open event for any Seniour wishing to attend whether they have attended before or not :)  If you have any questions or need a ride, please call the office at 416-244-7102     https://wpc.ecclesiact.com/seniors-meeting-
END:VEVENT
END:VCALENDAR
